BEGIN:VCALENDAR
METHOD:PUBLISH
PRODID:-//github.com/rianjs/ical.net//NONSGML ical.net 4.0//EN
VERSION:2.0
X-WR-CALNAME:Maywood PTSA
BEGIN:VEVENT
CREATED:20250827T170841
DTEND;VALUE=DATE:20260409
DTSTAMP:20260422T092137Z
DTSTART;VALUE=DATE:20260408
LAST-MODIFIED:20250827T170841
SEQUENCE:0
STATUS:CONFIRMED
SUMMARY:Staff Appreciation
TRANSP:TRANSPARENT
UID:143405@ourschoolpages.com
END:VEVENT
END:VCALENDAR
