BEGIN:VCALENDAR
METHOD:PUBLISH
PRODID:-//github.com/rianjs/ical.net//NONSGML ical.net 4.0//EN
VERSION:2.0
X-WR-CALNAME:Maywood PTSA
BEGIN:VEVENT
CREATED:20250809T180959
DTEND:20260410T043000Z
DTSTAMP:20260422T092224Z
DTSTART:20260410T010000Z
LAST-MODIFIED:20250809T180959
LOCATION:Administration Building\, 5150 220th Ave SE\, Issaquah\, WA
SEQUENCE:0
STATUS:CONFIRMED
SUMMARY:ISD School Board Meeting
TRANSP:TRANSPARENT
UID:142873@ourschoolpages.com
END:VEVENT
END:VCALENDAR
